Workbook

Sheet Giriş
A1: KISALTMALAR | B1: DEĞERLERİ GİRİNİZ | C1: ANLAMLARI | D1: ELDE EDİLME YÖNTEMLERİ
A2: Py | C2: Aracın Çalışır Durumdaki Kütlesi 1. Dingil | D2: Yetkili Teknik Sorumlu Beyanı
A3: Ry | C3: Aracın Çalışır Durumdaki Kütlesi 2. Dingil | D3: Yetkili Teknik Sorumlu Beyanı
A4: D | C4: Dingil Mesafesi | D4: Temel Araç Uygunluk Belgesi
A5: Pk | C5: Teknik Olarak Müsaade Edilen Kütle 1. Dingil | D5: Temel Araç Uygunluk Belgesi
A6: Rk | C6: Teknik Olarak Müsaade Edilen Kütle 2. Dingil | D6: Temel Araç Uygunluk Belgesi
A7: w | C7: Sürücü Kütlesi (Yolcu kütlesi 65 kg dir.) | D7: Motosiklerdeki Sürücü ve Yolcu Kütlesi
A8: S | C8: Sürücü (ve varsa yolcu konumu ağırlık merkezi bileşkesi) ile 1. dingil arası mesafe | D8: TEKNİK MUAYENE RAPORU
A9: M | C9: Taşıma Kutusu Ağırlık Merkezi ile 1. dingil arası mesafe | D9: TEKNİK MUAYENE RAPORU
A10: P | C10: Yük Kütlesi (En fazla 10 kg olmalıdır.) | D10: Yetkili Teknik Sorumlu Beyanı
A14: SONUÇ
A15: Arka Dingil | B15: =Hesaplar!C6 -> #DIV/0!
A16: Ön Dingil | B16: =Hesaplar!C7 -> #DIV/0!
A17: Ön dingile azami yüklü kütlenin en az %30'u gelmesi gerekir | B17: =Hesaplar!C8 -> #DIV/0!

Sheet Hesaplar
B1: Hesaplar
A2: I | B2: R1 | C2: =((G8*G9)+(G11*G10))/G5 -> #DIV/0! | F2: G | G2: =G3+G4+G8+G11 -> 0
A3: II | B3: P1 | C3: =G8+G11-C2 -> #DIV/0! | F3: Py | G3: =Giriş!B2 -> 0
A4: III | B4: P | C4: =Hesaplar!G3+Hesaplar!C3 -> #DIV/0! | F4: Ry | G4: =Giriş!B3 -> 0
A5: IV | B5: R | C5: =C2+G4 -> #DIV/0! | F5: D | G5: =Giriş!B4 -> 0
A6: V | B6: Rk>=R | C6: =IF(G7>=C5,"Uygun","Arka Dingil Kapasitesi Aşıyor Uygun Değil") -> #DIV/0! | F6: Pk | G6: =Giriş!B5 -> 0
A7: VI | B7: Pk>=P | C7: =IF(G6>=Hesaplar!C4,"Uygun","Ön Dingil Kapasitesi Aşıyor Uygun Değil") -> #DIV/0! | F7: Rk | G7: =Giriş!B6 -> 0
A8: VII | B8: P>=G*0.3 | C8: =IF(C4>=G2*3/10,"Uygun","Ön Dingile azami yüklü kütlenin en az %30'u gelmesi gerekmektedir.") -> #DIV/0! | F8: w | G8: =Giriş!B7 -> 0
A9: VIII | B9: G*3/10 | C9: =G2*3/10 -> 0 | F9: S | G9: =Giriş!B8 -> 0
A10: IX | F10: M | G10: =Giriş!B9 -> 0
A11: X | F11: P | G11: =Giriş!B10 -> 0
